Workbook

Sheet Produktauswahl
A1: Produkt-Auswahl | F1: Produkt-Katalog
A3: t_Produktauswahl | F3: t_Katalog
A4: Marke | B4: Modell | C4: Variante | F4: Marke | G4: Modell | H4: Variante | J4: {=_xlfn._xlws.SORT(_xlfn.UNIQUE(t_Katalog[Marke]))} -> Audi
A5: Audi | F5: Audi | G5: A4 | H5: Allroad | J5: BMW
F6: Audi | G6: A4 | H6: Avant | J6: Mercedes
F7: Audi | G7: A4 | H7: Limo | J7: Volkswagen | L7: Beispieldatei zum Blog-Artikel
F8: Audi | G8: A6 | H8: Allroad | L8: https://www.tabellenexperte.de/abhaengige-dropdown-listen-in-tabellen
F9: Audi | G9: A6 | H9: Avant
F10: Audi | G10: A6 | H10: Limo
F11: Audi | G11: Q3 | H11: e-hybrid
F12: Audi | G12: Q3 | H12: Sportback
F13: Audi | G13: Q3 | H13: SUV
F14: Audi | G14: Q5 | H14: Sportback
F15: Audi | G15: Q5 | H15: SUV
F16: Audi | G16: Q5 | H16: TFSIe
F17: BMW | G17: 1er | H17: 3-Türer
F18: BMW | G18: 1er | H18: 5-Türer
F19: BMW | G19: 1er | H19: M Sport
F20: BMW | G20: 3er | H20: Limo
... F52: Volkswagen | G52: Tiguan | H52: SUV

Sheet dd_Modelle
A1: Achtung!
A2: Formeln beginnen ab der Zeile 5, weil auch im Eingabeblatt "Produktauswahl" der erste Eintrag in Zeile 5 steht
A5: {=TRANSPOSE(_xlfn._xlws.SORT(_xlfn.UNIQUE(_xlfn._xlws.FILTER(t_Katalog[Modell],t_Katalog[Marke]=Produktauswahl!A5,""))))} -> A4 | B5: A6 | C5: Q3 | D5: Q5
A6: {=TRANSPOSE(_xlfn._xlws.SORT(_xlfn.UNIQUE(_xlfn._xlws.FILTER(t_Katalog[Modell],t_Katalog[Marke]=Produktauswahl!A6,""))))}
A7: {=TRANSPOSE(_xlfn._xlws.SORT(_xlfn.UNIQUE(_xlfn._xlws.FILTER(t_Katalog[Modell],t_Katalog[Marke]=Produktauswahl!A7,""))))}
A8: {=TRANSPOSE(_xlfn._xlws.SORT(_xlfn.UNIQUE(_xlfn._xlws.FILTER(t_Katalog[Modell],t_Katalog[Marke]=Produktauswahl!A8,""))))}
A9: {=TRANSPOSE(_xlfn._xlws.SORT(_xlfn.UNIQUE(_xlfn._xlws.FILTER(t_Katalog[Modell],t_Katalog[Marke]=Produktauswahl!A9,""))))}
A10: {=TRANSPOSE(_xlfn._xlws.SORT(_xlfn.UNIQUE(_xlfn._xlws.FILTER(t_Katalog[Modell],t_Katalog[Marke]=Produktauswahl!A10,""))))}
A11: {=TRANSPOSE(_xlfn._xlws.SORT(_xlfn.UNIQUE(_xlfn._xlws.FILTER(t_Katalog[Modell],t_Katalog[Marke]=Produktauswahl!A11,""))))}
A12: {=TRANSPOSE(_xlfn._xlws.SORT(_xlfn.UNIQUE(_xlfn._xlws.FILTER(t_Katalog[Modell],t_Katalog[Marke]=Produktauswahl!A12,""))))}
A13: {=TRANSPOSE(_xlfn._xlws.SORT(_xlfn.UNIQUE(_xlfn._xlws.FILTER(t_Katalog[Modell],t_Katalog[Marke]=Produktauswahl!A13,""))))}
A14: {=TRANSPOSE(_xlfn._xlws.SORT(_xlfn.UNIQUE(_xlfn._xlws.FILTER(t_Katalog[Modell],t_Katalog[Marke]=Produktauswahl!A14,""))))}
A15: {=TRANSPOSE(_xlfn._xlws.SORT(_xlfn.UNIQUE(_xlfn._xlws.FILTER(t_Katalog[Modell],t_Katalog[Marke]=Produktauswahl!A15,""))))}
A16: {=TRANSPOSE(_xlfn._xlws.SORT(_xlfn.UNIQUE(_xlfn._xlws.FILTER(t_Katalog[Modell],t_Katalog[Marke]=Produktauswahl!A16,""))))}
A17: {=TRANSPOSE(_xlfn._xlws.SORT(_xlfn.UNIQUE(_xlfn._xlws.FILTER(t_Katalog[Modell],t_Katalog[Marke]=Produktauswahl!A17,""))))}
... A1004: {=TRANSPOSE(_xlfn._xlws.SORT(_xlfn.UNIQUE(_xlfn._xlws.FILTER(t_Katalog[Modell],t_Katalog[Marke]=Produktauswahl!A1004,""))))}

Sheet dd_Varianten
A1: Achtung:!
A2: Formel beginnen ab der Zeile 5, weil auch im Eingabeblatt "Produktauswahl" der erste Eintrag in Zeile 5 steht
A5: {=TRANSPOSE(_xlfn._xlws.SORT(_xlfn.UNIQUE(_xlfn._xlws.FILTER(t_Katalog[Variante],(t_Katalog[Marke]=Produktauswahl!A5)*(t_Katalog[Modell]=Produktauswahl!B5),""))))}
A6: {=TRANSPOSE(_xlfn._xlws.SORT(_xlfn.UNIQUE(_xlfn._xlws.FILTER(t_Katalog[Variante],(t_Katalog[Marke]=Produktauswahl!A6)*(t_Katalog[Modell]=Produktauswahl!B6),""))))}
A7: {=TRANSPOSE(_xlfn._xlws.SORT(_xlfn.UNIQUE(_xlfn._xlws.FILTER(t_Katalog[Variante],(t_Katalog[Marke]=Produktauswahl!A7)*(t_Katalog[Modell]=Produktauswahl!B7),""))))}
A8: {=TRANSPOSE(_xlfn._xlws.SORT(_xlfn.UNIQUE(_xlfn._xlws.FILTER(t_Katalog[Variante],(t_Katalog[Marke]=Produktauswahl!A8)*(t_Katalog[Modell]=Produktauswahl!B8),""))))}
A9: {=TRANSPOSE(_xlfn._xlws.SORT(_xlfn.UNIQUE(_xlfn._xlws.FILTER(t_Katalog[Variante],(t_Katalog[Marke]=Produktauswahl!A9)*(t_Katalog[Modell]=Produktauswahl!B9),""))))}
A10: {=TRANSPOSE(_xlfn._xlws.SORT(_xlfn.UNIQUE(_xlfn._xlws.FILTER(t_Katalog[Variante],(t_Katalog[Marke]=Produktauswahl!A10)*(t_Katalog[Modell]=Produktauswahl!B10),""))))}
A11: {=TRANSPOSE(_xlfn._xlws.SORT(_xlfn.UNIQUE(_xlfn._xlws.FILTER(t_Katalog[Variante],(t_Katalog[Marke]=Produktauswahl!A11)*(t_Katalog[Modell]=Produktauswahl!B11),""))))}
A12: {=TRANSPOSE(_xlfn._xlws.SORT(_xlfn.UNIQUE(_xlfn._xlws.FILTER(t_Katalog[Variante],(t_Katalog[Marke]=Produktauswahl!A12)*(t_Katalog[Modell]=Produktauswahl!B12),""))))}
A13: {=TRANSPOSE(_xlfn._xlws.SORT(_xlfn.UNIQUE(_xlfn._xlws.FILTER(t_Katalog[Variante],(t_Katalog[Marke]=Produktauswahl!A13)*(t_Katalog[Modell]=Produktauswahl!B13),""))))}
A14: {=TRANSPOSE(_xlfn._xlws.SORT(_xlfn.UNIQUE(_xlfn._xlws.FILTER(t_Katalog[Variante],(t_Katalog[Marke]=Produktauswahl!A14)*(t_Katalog[Modell]=Produktauswahl!B14),""))))}
A15: {=TRANSPOSE(_xlfn._xlws.SORT(_xlfn.UNIQUE(_xlfn._xlws.FILTER(t_Katalog[Variante],(t_Katalog[Marke]=Produktauswahl!A15)*(t_Katalog[Modell]=Produktauswahl!B15),""))))}
A16: {=TRANSPOSE(_xlfn._xlws.SORT(_xlfn.UNIQUE(_xlfn._xlws.FILTER(t_Katalog[Variante],(t_Katalog[Marke]=Produktauswahl!A16)*(t_Katalog[Modell]=Produktauswahl!B16),""))))}
... A1004: {=TRANSPOSE(_xlfn._xlws.SORT(_xlfn.UNIQUE(_xlfn._xlws.FILTER(t_Katalog[Variante],(t_Katalog[Marke]=Produktauswahl!A1004)*(t_Katalog[Modell]=Produktauswahl!B1004),""))))}
